{"text_format":"1","workbook":"xlsx","n_sheets":2,"sheets":["Evaluación","Imprime_evaluación"],"not_rendered":{"charts":0,"images":0,"macros":1,"external_links":0,"defined_names":0,"comments":1,"pivot_tables":0},"unopened":[],"bounds":{"document_bytes":16777216,"sheet_cells":100000,"rows_first":2000,"rows_last":500,"rows_between":2000,"halvings":0,"cell_chars":16384,"cell_head_chars":4096},"cells_cut":0,"cells_raw":0,"read":"whole","date_system":"1900"}

{"sheet":"Evaluación","index":0,"n_rows":72,"n_cols":26,"rows_kept":72,"cut":false,"hidden":false,"merged":[[1,2,3,23],[70,2,71,4],[37,0,40,0],[41,0,47,0],[48,0,55,0],[56,0,60,0],[5,0,5,1],[6,0,6,1],[7,0,7,1],[8,0,8,1],[9,0,9,5],[10,0,12,0],[13,0,17,0],[23,0,23,5],[18,0,22,0],[21,2,21,3],[11,2,11,3],[12,2,12,3],[13,2,13,3],[14,2,14,3],[15,2,15,3],[16,2,16,3],[17,2,17,3],[18,2,18,3],[19,2,19,3],[46,18,46,23],[47,18,47,23],[48,18,48,23],[49,18,49,23],[50,18,50,23],[41,18,41,23],[42,18,42,23],[43,18,43,23],[44,18,44,23],[45,18,45,23],[35,18,35,23],[37,18,37,23],[38,18,38,23],[39,18,39,23],[40,18,40,23],[30,18,30,23],[31,18,31,23],[32,18,32,23],[33,18,33,23],[34,18,34,23],[36,18,36,23],[25,18,25,23],[26,18,26,23],[57,18,57,23],[58,18,58,23],[59,18,59,23],[60,18,60,23],[51,18,51,23],[52,18,52,23],[53,18,53,23],[54,18,54,23],[55,18,55,23],[28,18,28,23],[29,18,29,23],[19,18,19,23],[20,18,20,23],[21,18,21,23],[22,18,22,23],[24,18,24,23],[23,18,23,23],[56,18,56,23],[56,8,56,17],[57,8,57,17],[58,8,58,17],[59,8,59,17],[41,8,41,17],[42,8,42,17],[43,8,43,17],[44,8,44,17],[45,8,45,17],[51,8,51,17],[52,8,52,17],[53,8,53,17],[54,8,54,17],[55,8,55,17],[46,8,46,17],[47,8,47,17],[48,8,48,17],[49,8,49,17],[50,8,50,17],[13,18,13,23],[40,8,40,17],[30,8,30,17],[31,8,31,17],[32,8,32,17],[33,8,33,17],[34,8,34,17],[36,8,36,17],[19,8,19,17],[20,8,20,17],[21,8,21,17],[22,8,22,17],[24,8,24,17],[23,8,23,17],[25,8,25,17],[26,8,26,17],[27,8,27,17],[28,8,28,17],[29,8,29,17],[35,8,35,17],[37,8,37,17],[38,8,38,17],[39,8,39,17],[27,18,27,23],[14,18,14,23],[15,18,15,23],[16,18,16,23],[17,18,17,23],[18,18,18,23],[5,2,5,5],[6,2,6,5],[7,2,7,5],[8,2,8,5],[14,8,14,17],[15,8,15,17],[16,8,16,17],[17,8,17,17],[18,8,18,17],[9,8,9,17],[9,18,9,23],[10,8,10,17],[11,8,11,17],[12,8,12,17],[13,8,13,17],[10,18,10,23],[11,18,11,23],[12,18,12,23],[10,2,10,3],[20,2,20,3],[33,2,33,3],[22,2,22,3],[24,2,24,3],[25,2,25,3],[26,2,26,3],[27,2,27,3],[28,2,28,3],[29,2,29,3],[30,2,30,3],[31,2,31,3],[32,2,32,3],[45,2,45,3],[34,2,34,3],[35,2,35,3],[37,2,37,3],[38,2,38,3],[39,2,39,3],[40,2,40,3],[41,2,41,3],[42,2,42,3],[43,2,43,3],[44,2,44,3],[36,0,36,5],[24,0,35,0],[57,2,57,3],[46,2,46,3],[47,2,47,3],[48,2,48,3],[49,2,49,3],[50,2,50,3],[51,2,51,3],[52,2,52,3],[53,2,53,3],[54,2,54,3],[55,2,55,3],[56,2,56,3],[63,13,63,14],[64,13,64,14],[66,2,69,4],[58,2,58,3],[59,2,59,3],[60,2,60,3],[62,9,62,11],[61,13,61,14],[62,13,62,14],[60,8,60,17],[67,12,69,16],[63,2,65,3]]}
[]
[null,null,"SISTEMA AUTOMÁTICO DE CAPTURA DE INFORMACIÓN SOBRE MALEZAS (SACIM) - WRA-Mx"]
[]
[]
[]
["Nombre botánico:"]
["Nombre común:"]
["Nombre familia:"]
["Evaluador:"]
["SECCION A. BIOGEOGRAFÍA/HISTORIA",null,null,null,null,null,"RESPUESTA","CALIFICACIÓN","JUSTIFICACIÓN",null,null,null,null,null,null,null,null,null,"FUENTE"]
["Domesticación",1.01,"¿Es una especie domesticada? ",null,"No= 0; Sí= -3","C",null,{"$f":"IF(G11=\"S\",-3, IF(G11=\"N\",0,IF(G11=\"?\",\"NA\",\"error\")))","v":"error"},null,null,null,null,null,null,null,null,null,null,null,null,null,null,null,null,null,"S"]
[null,1.02,"¿La especie se ha naturalizado en el lugar donde se ha sembrado o cultivado?",null,"No=-1; Sí= 1","C",null,{"$f":"IF(G12=\"S\",1, IF(G12=\"N\",-1,IF(G12=\"?\",\"NA\",\"error\")))","v":"error"},null,null,null,null,null,null,null,null,null,null,null,null,null,null,null,null,null,"N"]
[null,1.03,"¿La especie tiene razas o variedades que sean malezas?",null,"No= -1; Sí= 1","C",null,{"$f":"IF(G13=\"S\",1, IF(G13=\"N\",-1,IF(G13=\"?\",\"NA\",\"error\")))","v":"error"},null,null,null,null,null,null,null,null,null,null,null,null,null,null,null,null,null,"?"]
["Clima y distribución",2.0099999999999998,"Especie adecuada a climas en México",null,"Alta similitud= 2; Intermedio= 1; Baja o nula= 0",null,null,{"$f":"IF(G14=\"alta\",2, IF(G14=\"intermedio\",1,IF(G14=\"baja\",0,IF(G14=\"nula\",0,\"error\"))))","v":"error"},null,null,null,null,null,null,null,null,null,null,null,null,null,null,null,null,null,"Alta"]
[null,2.02,"Calidad de similitud climática",null,"Alta similitud= 2; Baja o nula= 0",null,null,{"$f":"IF(G15=\"alta\",2, IF(G15=\"intermedio\",1,IF(G15=\"baja\",0,IF(G15=\"nula\",0,\"error\"))))","v":"error"},null,null,null,null,null,null,null,null,null,null,null,null,null,null,null,null,null,"Intermedio"]
[null,2.0299999999999998,"Especie adaptable a un rango ambiental muy amplio",null,"No=0; Sí= 1","C",null,{"$f":"IF(G16=\"S\",1, IF(G16=\"N\",0,IF(G16=\"?\",\"NA\",\"error\")))","v":"error"},null,null,null,null,null,null,null,null,null,null,null,null,null,null,null,null,null,"Baja"]
[null,2.04,"Nativo o naturalizada en hábitats con clima seco (clima tipo B)",null,"No=0; Sí= 1","C",null,{"$f":"IF(G17=\"S\",1, IF(G17=\"N\",0,IF(G17=\"?\",\"NA\",\"error\")))","v":"error"},null,null,null,null,null,null,null,null,null,null,null,null,null,null,null,null,null,"Nula"]
[null,2.0499999999999998,"Hay evidencias de introducciones repetidas fuera de su rango de distribución natural",null,"Ver tabla A2 // ?= -1; N=0; S=    -2",null,null,{"$f":"IF(G18=\"?\",-1, IF(G18=\"N\",0,IF(G18=\"S\",-2,IF(G18=\"nula\",0,\"error\"))))","v":"error"},null,null,null,null,null,null,null,null,null,null,null,null,null,null,null,null,null,"Anual"]
["Maleza",3.01,"Naturalizado fuera de su rango nativo de distribución",null,"Depende de los resultados de la pregunta 2.01 y 2.02","C",null,{"$f":"IF(AND(G19=\"S\",H14=0,H15=0),2,IF(AND(G19=\"S\",H14=0,H15=1),1,IF(AND(G19=\"S\",H14=0,H15=2),1,IF(AND(G19=\"S\",H14=1,H15=0),2,IF(AND(G19=\"S\",H14=1,H15=1),2,IF(AND(G19=\"S\",H14=1,H15=2),1,IF(AND(G19=\"S\",H14=2),2,IF(AND(G19=\"N\",H18=-1),-1,IF(AND(G19=\"N\",H18=0),0,IF(AND(G19=\"N\",H18=-2),-2,\"error\"))))))))))","v":"error"},null,null,null,null,null,null,null,null,null,null,null,null,null,null,null,null,null,"Bianual"]
[null,3.02,"Maleza de jardines o de espacios de uso público urbano",null,"Depende de los resultados de la pregunta 2.01 y 2.02","E",null,{"$f":"IF(AND(G19=\"S\",H14=0,H15=0),2,IF(AND(G19=\"S\",H14=0,H15=1),1,IF(AND(G19=\"S\",H14=0,H15=2),1,IF(AND(G19=\"S\",H14=1,H15=0),2,IF(AND(G19=\"S\",H14=1,H15=1),2,IF(AND(G19=\"S\",H14=1,H15=2),1,IF(AND(G19=\"S\",H14=2),2,IF(AND(G19=\"N\"),0,\"error\"))))))))","v":"error"},null,null,null,null,null,null,null,null,null,null,null,null,null,null,null,null,null,"Vida corta"]
[null,3.03,"Maleza agrícola, hortícola o forestal",null,"Depende de los resultados de la pregunta 2.01 y 2.02","A",null,{"$f":"IF(AND(G19=\"S\",H14=0,H15=0),4,IF(AND(G19=\"S\",H14=0,H15=1),2,IF(AND(G19=\"S\",H14=0,H15=2),1,IF(AND(G19=\"S\",H14=1,H15=0),4,IF(AND(G19=\"S\",H14=1,H15=1),3,IF(AND(G19=\"S\",H14=1,H15=2),2,IF(AND(G19=\"S\",H14=2),4,IF(AND(G19=\"N\"),0,\"error\"))))))))","v":"error"},null,null,null,null,null,null,null,null,null,null,null,null,null,null,null,null,null,">4"]
[null,3.04,"Maleza ambiental",null,"Depende de los resultados de la pregunta 2.01 y 2.02","E",null,{"$f":"IF(AND(G19=\"S\",H14=0,H15=0),4,IF(AND(G19=\"S\",H14=0,H15=1),2,IF(AND(G19=\"S\",H14=0,H15=2),1,IF(AND(G19=\"S\",H14=1,H15=0),4,IF(AND(G19=\"S\",H14=1,H15=1),3,IF(AND(G19=\"S\",H14=1,H15=2),2,IF(AND(G19=\"S\",H14=2),4,IF(AND(G19=\"N\"),0,\"error\"))))))))","v":"error"}]
[null,3.05,"Relación filogenética cercana con especies de malezas",null,"Depende de los resultados de la pregunta 2.01 y 2.02","C",null,{"$f":"IF(AND(G19=\"S\",H14=0,H15=0),2,IF(AND(G19=\"S\",H14=0,H15=1),1,IF(AND(G19=\"S\",H14=0,H15=2),1,IF(AND(G19=\"S\",H14=1,H15=0),2,IF(AND(G19=\"S\",H14=1,H15=1),2,IF(AND(G19=\"S\",H14=1,H15=2),1,IF(AND(G19=\"S\",H14=2),2,IF(AND(G19=\"N\"),0,\"error\"))))))))","v":"error"}]
["SECCION B. RASGOS INDESEABLES",null,null,null,null,null,"RESPUESTA",null,"JUSTIFICACIÓN",null,null,null,null,null,null,null,null,null,"FUENTE"]
["Rasgos indeseables",4.01,"Produce espinas o estructuras ganchudas",null,"No= 0; Sí= 1","C",null,{"$f":"IF(G25=\"S\",1, IF(G25=\"N\",0,IF(G25=\"?\",\"NA\",\"error\")))","v":"error"}]
[null,4.0199999999999996,"Alelopática",null,"No= 0; Sí= 1","C",null,{"$f":"IF(G26=\"S\",1, IF(G26=\"N\",0,IF(G26=\"?\",\"NA\",\"error\")))","v":"error"}]
[null,4.03,"Parásita",null,"No= 0; Sí= 1","C",null,"error"]
[null,4.04,"No adecuado para animales de pastoreo (desagradable)",null,"No= -1; Sí= 1","A",null,{"$f":"IF(G28=\"S\",1, IF(G28=\"N\",-1,IF(G28=\"?\",\"NA\",\"error\")))","v":"error"}]
[null,4.05,"Tóxico a animales",null,"No= 0; Sí= 1","C",null,"error"]
[null,4.0599999999999996,"Hospedero de plagas o patógenos reconocidos",null,"No= 0; Sí= 1","C",null,"error"]
[null,4.07,"Causa alergias o es tóxico para los humanos",null,"No= 0; Sí= 1","C",null,"error"]
[null,4.08,"Crea un riesgo de incendio en sistemas naturales",null,"No= 0; Sí= 1","E",null,"error"]
[null,4.09,"Es una especie tolerante a la sombra en alguna fase de su ciclo de vida",null,"No= 0; Sí= 1","E",null,"error"]
[null,4.0999999999999996,"Crece en suelos de México",null,"No= 0; Sí= 1","E",null,"error"]
[null,4.1100000000000003,"Hábito trepador",null,"No= 0; Sí= 1","E",null,"error"]
[null,4.12,"Crecimiento cerrado o denso",null,"No= 0; Sí= 1","C",null,"error"]
["SECCION C. BIOLOGÍA/ECOLOGÍA",null,null,null,null,null,"RESPUESTA",null,"JUSTIFICACIÓN",null,null,null,null,null,null,null,null,null,"FUENTE"]
["Tipo de planta",5.01,"Acuática",null,"No= 0; Sí= 5","E",null,{"$f":"IF(G38=\"S\",5, IF(G38=\"N\",0,IF(G38=\"?\",\"NA\",\"error\")))","v":"error"}]
[null,5.0199999999999996,"Pastos (Poaceae)",null,"No= 0; Sí= 1","C",null,{"$f":"IF(G39=\"S\",1, IF(G39=\"N\",0,IF(G39=\"?\",\"NA\",\"error\")))","v":"error"}]
[null,5.03,"Plantas fijadoras de nitrógeno",null,"No= 0; Sí= 1","E",null,{"$f":"IF(G40=\"S\",1, IF(G40=\"N\",0,IF(G40=\"?\",\"NA\",\"error\")))","v":"error"}]
[null,5.04,"Geófita",null,"No= 0; Sí= 1","C",null,"error"]
["Reproducción",6.01,"Evidencia de bajo éxito reproductivo en lugares de origen",null,"No= 0; Sí= 1","C",null,"error"]
[null,6.02,"Produce semillas viables",null,"No= -1; Sí= 1","C",null,{"$f":"IF(G43=\"S\",1, IF(G43=\"N\",-1,IF(G43=\"?\",\"NA\",\"error\")))","v":"error"}]
[null,6.03,"Hibridiza de manera natural",null,"No= -1; Sí= 1","A",null,{"$f":"IF(G44=\"S\",1, IF(G44=\"N\",-1,IF(G44=\"?\",\"NA\",\"error\")))","v":"error"}]
[null,6.04,"Autofecundación",null,"No= -1; Sí= 1","C",null,{"$f":"IF(G45=\"S\",1, IF(G45=\"N\",-1,IF(G45=\"?\",\"NA\",\"error\")))","v":"error"}]
[null,6.05,"Requiere de polinizadores especialistas",null,"No= 0; Sí= -1","C",null,{"$f":"IF(G46=\"S\",-1, IF(G46=\"N\",0,IF(G46=\"?\",\"NA\",\"error\")))","v":"error"}]
[null,6.06,"Reproducción vegetativa",null,"No= -1; Sí= 1","A",null,{"$f":"IF(G47=\"S\",1, IF(G47=\"N\",-1,IF(G47=\"?\",\"NA\",\"error\")))","v":"error"}]
[null,6.07,"Tiempo generacional mínimo",null,"1 año= 1; 2 o 3 años= 0; >4 años= -1","C",null,{"$f":"IF(G48=\"anual\",1,IF(G48=\"bianual\",0,IF(G48=\"vida corta\",0,IF(G48=\">4\",-1,\"error\"))))","v":"error"}]
["Mecanismos de dispersión",7.01,"Los propágulos probablemente pueden ser dispersados no intencionalmente",null,"No= -1; Sí= 1","A",null,{"$f":"IF(G49=\"S\",1, IF(G49=\"N\",-1,IF(G49=\"?\",\"NA\",\"error\")))","v":"error"}]
[null,7.02,"Los propágulos se dispersan intencionalmente por el humano",null,"No= -1; Sí= 1","C",null,{"$f":"IF(G50=\"S\",1, IF(G50=\"N\",-1,IF(G50=\"?\",\"NA\",\"error\")))","v":"error"}]
[null,7.03,"Los propágulos pueden ser dispersados como contaminantes de productos",null,"No= -1; Sí= 1","A",null,"error"]
[null,7.04,"Propágulos adaptados a dispersión por viento",null,"No= -1; Sí= 1","C",null,"error"]
[null,7.05,"Propágulos con capacidad de flotar",null,"No= -1; Sí= 1","E",null,"error"]
[null,7.06,"Propágulos dispersados por aves",null,"No= -1; Sí= 1","E",null,"error"]
[null,7.07,"Propágulos dispersados por animales (de manera externa)",null,"No= -1; Sí= 1","C",null,"error"]
[null,7.08,"Propágulos dispersados por animales (de forma interna)",null,"No= -1; Sí= 1","C",null,"error"]
["Atributos de persistencia",8.01,"Abundante producción de semillas",null,"No= -1; Sí= 1","C",null,"error"]
[null,8.02,"Evidencia de que existe un banco de semillas persistente (de más de 1 año)",null,"No= -1; Sí= 1","C",null,"error"]
[null,8.0299999999999994,"Es controlado por herbicidas",null,"No= 1; Sí= -1","A",null,{"$f":"IF(G59=\"S\",-1, IF(G59=\"N\",1,IF(G59=\"?\",\"NA\",\"error\")))","v":"error"}]
[null,8.0399999999999991,"Es tolerante o se beneficia de mutilación, corte, cultivo o fuego",null,"No= -1; Sí= 1","A",null,"error"]
[null,8.0500000000000007,"Enemigos naturales efectivos en México",null,"No= 1; Sí= -1","C",null,{"$f":"IF(G61=\"S\",-1, IF(G61=\"N\",1,IF(G61=\"?\",\"NA\",\"error\")))","v":"error"}]
[null,null,null,null,null,"Respuesta",{"$f":"IF($K$71,LOOKUP($G$63,$K$64:$K$66,$J$64:$J$66),\"Más información\")","v":"EVALUAR"}]
[null,null,null,null,null,"Puntuación total",{"$f":"SUM($H$11:$H$13,$H$16:$H$17,$H$19:$H$23,$H$25:$H$36,$H$38:$H$61)","v":0},null,null,"Tolerancia"]
[null,null,"Bloques de puntuación",null,null,"Biogeografía",{"$f":"SUM($H$11:$H$13,$H$16:$H$17,$H$19:$H$23)","v":0},null,null,"ACEPTAR",-100]
[null,null,null,null,null,"Atributos indeseables",{"$f":"SUM($H$25:$H$36)","v":0},null,null,"EVALUAR",0]
[null,null,null,null,null,"Biología/ecología",{"$f":"SUM($H$38:$H$61)","v":0},null,null,"RECHAZAR",6]
[null,null,"Preguntas contestadas",null,null,"Biogeografía",{"$f":"COUNT($H$11:$H$13,$H$14:$H$15,$H$16:$H$17,$H$18,$H$19:$H$23)","v":0},null,null,"Total","Mínimo de preguntas a contestar"]
[null,null,null,null,null,"Atributos indeseables",{"$f":"COUNT($H$25:$H$36)","v":0},null,null,{"$f":"COUNT($H$11:$H$13,$H$14:$H$15,$H$16:$H$17,$H$18,$H$19:$H$23)","v":0},2,{"$f":"IF(G67>=K68,TRUE,FALSE)","v":false},"Sino se tienen constestadas el mínimo de preguntas, no se puede realizar la evaluación"]
[null,null,null,null,null,"Biología/ecología",{"$f":"COUNT($H$38:$H$61)","v":0},null,null,{"$f":"COUNT($H$25:$H$36)","v":0},2,{"$f":"IF(G68>=K69,TRUE,FALSE)","v":false}]
[null,null,null,null,null,"Total",{"$f":"SUM(G67:G69)","v":0},null,null,{"$f":"COUNT($H$38:$H$61)","v":0},6,{"$f":"IF(G69>=K70,TRUE,FALSE)","v":false}]
[null,null,"Sector afectado",null,null,"Agrícola",{"$f":"SUM($H$11:$H$13,$H$16:$H$17,$H$19,$H$21,$H$23,$H$25:$H$31,$H$36,$H$39,$H$41,$H$42:$H$48,$H$49:$H$52,$H$55:$H$56,$H$57:$H$61)","v":0},null,null,{"$f":"SUM(J68:J70)","v":0},{"$f":"SUM(K68:K70)","v":10},{"$f":"IF(L68,IF(L69,IF(L70,TRUE)))","v":false}]
[null,null,null,null,null,"Ambiental",{"$f":"SUM($H$11:$H$13,$H$16:$H$17,$H$19:$H$20,$H$22:$H$23,$H$25:$H$27,$H$29:$H$36,$H$38:$H$41,$H$42:$H$43,$H$45:$H$46,$H$48,$H$50,$H$52:$H$56,$H$57,$H$58,$H$61)","v":0}]

{"sheet":"Imprime_evaluación","index":1,"n_rows":69,"n_cols":7,"rows_kept":69,"cut":false,"hidden":false,"merged":[[4,6,6,7],[22,0,22,5],[35,0,35,5],[6,4,7,5],[55,0,59,0],[47,0,54,0],[59,2,59,4],[40,0,46,0],[54,2,54,4],[55,2,55,4],[56,2,56,4],[57,2,57,4],[58,2,58,4],[49,2,49,4],[50,2,50,4],[51,2,51,4],[52,2,52,4],[53,2,53,4],[44,2,44,4],[45,2,45,4],[46,2,46,4],[47,2,47,4],[48,2,48,4],[40,2,40,4],[41,2,41,4],[42,2,42,4],[43,2,43,4],[36,0,39,0],[36,2,36,4],[37,2,37,4],[38,2,38,4],[39,2,39,4],[23,0,34,0],[23,2,23,4],[24,2,24,4],[25,2,25,4],[26,2,26,4],[27,2,27,4],[28,2,28,4],[29,2,29,4],[30,2,30,4],[31,2,31,4],[32,2,32,4],[33,2,33,4],[34,2,34,4],[17,0,21,0],[17,2,17,4],[18,2,18,4],[19,2,19,4],[20,2,20,4],[21,2,21,4],[12,2,12,4],[9,0,11,0],[12,0,16,0],[13,2,13,4],[14,2,14,4],[15,2,15,4],[16,2,16,4],[6,1,6,3],[7,1,7,3],[9,2,9,4],[10,2,10,4],[11,2,11,4],[0,0,3,5],[63,0,66,2],[67,0,68,2],[60,3,60,4],[61,3,61,4],[62,3,62,4],[63,3,63,4],[64,3,64,4],[65,3,65,4],[66,3,66,4],[67,3,67,4],[68,3,68,4],[60,0,62,2],[8,0,8,5],[4,1,4,3],[5,1,5,3]]}
["  SISTEMA AUTOMÁTICO DE CAPTURA DE INFORMACIÓN SOBRE MALEZAS (SACIM) - WRA-Mx"]
[]
[]
[]
["Nombre botánico:",{"$f":"Evaluación!C6","v":0},null,null,"Respuesta",{"$f":"Evaluación!G62","v":"EVALUAR"},"Oprime el botón para imprimir la evaluación en formato PDF"]
["Nombre común:",{"$f":"Evaluación!C7","v":0},null,null,"Puntuación total",{"$f":"Evaluación!G63","v":0}]
["Nombre familia:",{"$f":"Evaluación!C8","v":0},null,null,{"$f":"TODAY()","v":"2019-12-28"}]
["Evaluador:",{"$f":"Evaluación!C9","v":0}]
["SECCION A. BIOGEOGRAFÍA/HISTORIA"]
["Domesticación",1.01,"¿Es una especie domesticada? ",null,null,{"$f":"Evaluación!G11","v":0}]
[null,1.02,"¿La especie se ha naturalizado en el lugar donde se ha sembrado o cultivado?",null,null,{"$f":"Evaluación!G12","v":0}]
[null,1.03,"¿La especie tiene razas o variedades que sean malezas?",null,null,{"$f":"Evaluación!G13","v":0}]
["Clima y distribución",2.0099999999999998,"Especie adecuada a climas en México",null,null,{"$f":"Evaluación!G14","v":0}]
[null,2.02,"Calidad de similitud climática",null,null,{"$f":"Evaluación!G15","v":0}]
[null,2.0299999999999998,"Especie adaptable a un rango ambiental muy amplio",null,null,{"$f":"Evaluación!G16","v":0}]
[null,2.04,"Nativo o naturalizada en hábitats con clima seco (clima tipo B)",null,null,{"$f":"Evaluación!G17","v":0}]
[null,2.0499999999999998,"Hay evidencias de introducciones repetidas fuera de su rango de distribución natural",null,null,{"$f":"Evaluación!G18","v":0}]
["Maleza",3.01,"Naturalizado fuera de su rango nativo de distribución",null,null,{"$f":"Evaluación!G19","v":0}]
[null,3.02,"Maleza de jardines o de espacios de uso público urbano",null,null,{"$f":"Evaluación!G20","v":0}]
[null,3.03,"Maleza agrícola, hortícola o forestal",null,null,{"$f":"Evaluación!G21","v":0}]
[null,3.04,"Maleza ambiental",null,null,{"$f":"Evaluación!G22","v":0}]
[null,3.05,"Relación filogenética cercana con especies de malezas",null,null,{"$f":"Evaluación!G23","v":0}]
["SECCION B. RASGOS INDESEABLES"]
["Rasgos indeseables",4.01,"Produce espinas o estructuras ganchudas",null,null,{"$f":"Evaluación!G25","v":0}]
[null,4.0199999999999996,"Alelopática",null,null,{"$f":"Evaluación!G26","v":0}]
[null,4.03,"Parásita",null,null,{"$f":"Evaluación!G27","v":0}]
[null,4.04,"No adecuado para animales de pastoreo (desagradable)",null,null,{"$f":"Evaluación!G28","v":0}]
[null,4.05,"Tóxico a animales",null,null,{"$f":"Evaluación!G29","v":0}]
[null,4.0599999999999996,"Hospedero de plagas o patógenos reconocidos",null,null,{"$f":"Evaluación!G30","v":0}]
[null,4.07,"Causa alergias o es tóxico para los humanos",null,null,{"$f":"Evaluación!G31","v":0}]
[null,4.08,"Crea un riesgo de incendio en sistemas naturales",null,null,{"$f":"Evaluación!G32","v":0}]
[null,4.09,"Es una especie tolerante a la sombra en alguna fase de su ciclo de vida",null,null,{"$f":"Evaluación!G33","v":0}]
[null,4.0999999999999996,"Crece en suelos de México",null,null,{"$f":"Evaluación!G34","v":0}]
[null,4.1100000000000003,"Hábito trepador",null,null,{"$f":"Evaluación!G35","v":0}]
[null,4.12,"Crecimiento cerrado o denso",null,null,{"$f":"Evaluación!G36","v":0}]
["SECCION C. BIOLOGÍA/ECOLOGÍA"]
["Tipo de planta",5.01,"Acuática",null,null,{"$f":"Evaluación!G38","v":0}]
[null,5.0199999999999996,"Pastos (Poaceae)",null,null,{"$f":"Evaluación!G39","v":0}]
[null,5.03,"Plantas fijadoras de nitrógeno",null,null,{"$f":"Evaluación!G40","v":0}]
[null,5.04,"Geófita",null,null,{"$f":"Evaluación!G41","v":0}]
["Reproducción",6.01,"Evidencia de bajo éxito reproductivo en lugares de origen",null,null,{"$f":"Evaluación!G42","v":0}]
[null,6.02,"Produce semillas viables",null,null,{"$f":"Evaluación!G43","v":0}]
[null,6.03,"Hibridiza de manera natural",null,null,{"$f":"Evaluación!G44","v":0}]
[null,6.04,"Autofecundación",null,null,{"$f":"Evaluación!G45","v":0}]
[null,6.05,"Requiere de polinizadores especialistas",null,null,{"$f":"Evaluación!G46","v":0}]
[null,6.06,"Reproducción vegetativa",null,null,{"$f":"Evaluación!G47","v":0}]
[null,6.07,"Tiempo generacional mínimo",null,null,{"$f":"Evaluación!G48","v":0}]
["Mecanismos de dispersión",7.01,"Los propágulos probablemente pueden ser dispersados no intencionalmente",null,null,{"$f":"Evaluación!G49","v":0}]
[null,7.02,"Los propágulos se dispersan intencionalmente por el humano",null,null,{"$f":"Evaluación!G50","v":0}]
[null,7.03,"Los propágulos pueden ser dispersados como contaminantes de productos",null,null,{"$f":"Evaluación!G51","v":0}]
[null,7.04,"Propágulos adaptados a dispersión por viento",null,null,{"$f":"Evaluación!G52","v":0}]
[null,7.05,"Propágulos con capacidad de flotar",null,null,{"$f":"Evaluación!G53","v":0}]
[null,7.06,"Propágulos dispersados por aves",null,null,{"$f":"Evaluación!G54","v":0}]
[null,7.07,"Propágulos dispersados por animales (de manera externa)",null,null,{"$f":"Evaluación!G55","v":0}]
[null,7.08,"Propágulos dispersados por animales (de forma interna)",null,null,{"$f":"Evaluación!G56","v":0}]
["Atributos de persistencia",8.01,"Abundante producción de semillas",null,null,{"$f":"Evaluación!G57","v":0}]
[null,8.02,"Evidencia de que existe un banco de semillas persistente (de más de 1 año)",null,null,{"$f":"Evaluación!G58","v":0}]
[null,8.0299999999999994,"Es controlado por herbicidas",null,null,{"$f":"Evaluación!G59","v":0}]
[null,8.0399999999999991,"Es tolerante o se beneficia de mutilación, corte, cultivo o fuego",null,null,{"$f":"Evaluación!G60","v":0}]
[null,8.0500000000000007,"Enemigos naturales efectivos en México",null,null,{"$f":"Evaluación!G61","v":0}]
["Bloques de puntuación",null,null,"Biogeografía",null,{"$f":"Evaluación!G64","v":0}]
[null,null,null,"Atributos indeseables",null,{"$f":"Evaluación!G65","v":0}]
[null,null,null,"Biología/ecología",null,{"$f":"Evaluación!G66","v":0}]
["Preguntas contestadas",null,null,"Biogeografía",null,{"$f":"Evaluación!G67","v":0}]
[null,null,null,"Atributos indeseables",null,{"$f":"Evaluación!G68","v":0}]
[null,null,null,"Biología/ecología",null,{"$f":"Evaluación!G69","v":0}]
[null,null,null,"Total",null,{"$f":"Evaluación!G70","v":0}]
["Sector afectado",null,null,"Agrícola",null,{"$f":"Evaluación!G71","v":0}]
[null,null,null,"Ambiental",null,{"$f":"Evaluación!G72","v":0}]